BEGIN:VCALENDAR
VERSION:2.0
PRODID:-//MEG München - ECPv6.15.20//NONSGML v1.0//EN
CALSCALE:GREGORIAN
METHOD:PUBLISH
X-ORIGINAL-URL:https://meg-muenchen.de
X-WR-CALDESC:Veranstaltungen für MEG München
REFRESH-INTERVAL;VALUE=DURATION:PT1H
X-Robots-Tag:noindex
X-PUBLISHED-TTL:PT1H
BEGIN:VTIMEZONE
TZID:Europe/Berlin
BEGIN:DAYLIGHT
TZOFFSETFROM:+0100
TZOFFSETTO:+0200
TZNAME:CEST
DTSTART:20210328T010000
END:DAYLIGHT
BEGIN:STANDARD
TZOFFSETFROM:+0200
TZOFFSETTO:+0100
TZNAME:CET
DTSTART:20211031T010000
END:STANDARD
BEGIN:DAYLIGHT
TZOFFSETFROM:+0100
TZOFFSETTO:+0200
TZNAME:CEST
DTSTART:20220327T010000
END:DAYLIGHT
BEGIN:STANDARD
TZOFFSETFROM:+0200
TZOFFSETTO:+0100
TZNAME:CET
DTSTART:20221030T010000
END:STANDARD
BEGIN:DAYLIGHT
TZOFFSETFROM:+0100
TZOFFSETTO:+0200
TZNAME:CEST
DTSTART:20230326T010000
END:DAYLIGHT
BEGIN:STANDARD
TZOFFSETFROM:+0200
TZOFFSETTO:+0100
TZNAME:CET
DTSTART:20231029T010000
END:STANDARD
END:VTIMEZONE
BEGIN:VTIMEZONE
TZID:Europe/Helsinki
BEGIN:DAYLIGHT
TZOFFSETFROM:+0200
TZOFFSETTO:+0300
TZNAME:EEST
DTSTART:20200329T010000
END:DAYLIGHT
BEGIN:STANDARD
TZOFFSETFROM:+0300
TZOFFSETTO:+0200
TZNAME:EET
DTSTART:20201025T010000
END:STANDARD
BEGIN:DAYLIGHT
TZOFFSETFROM:+0200
TZOFFSETTO:+0300
TZNAME:EEST
DTSTART:20210328T010000
END:DAYLIGHT
BEGIN:STANDARD
TZOFFSETFROM:+0300
TZOFFSETTO:+0200
TZNAME:EET
DTSTART:20211031T010000
END:STANDARD
BEGIN:DAYLIGHT
TZOFFSETFROM:+0200
TZOFFSETTO:+0300
TZNAME:EEST
DTSTART:20220327T010000
END:DAYLIGHT
BEGIN:STANDARD
TZOFFSETFROM:+0300
TZOFFSETTO:+0200
TZNAME:EET
DTSTART:20221030T010000
END:STANDARD
END:VTIMEZONE
BEGIN:VEVENT
DTSTART;TZID=Europe/Berlin:20221207T160000
DTEND;TZID=Europe/Berlin:20221207T200000
DTSTAMP:20260420T025511
CREATED:20220109T212622Z
LAST-MODIFIED:20220109T212653Z
UID:10000251-1670428800-1670443200@meg-muenchen.de
SUMMARY:SV - Supervision - Online - B.Hilse - 221207HI** - 07.12.22\, 16-20 Uhr\, € 90
DESCRIPTION:fallzentrierte Supervision\, 5 FE
URL:https://meg-muenchen.de/seminare/sv-supervision-online-b-hilse-221207hi-07-12-22-16-20-uhr-e-90/
LOCATION:Online
CATEGORIES:Supervision
END:VEVENT
BEGIN:VEVENT
DTSTART;TZID=Europe/Helsinki:20210507T140000
DTEND;TZID=Europe/Helsinki:20210508T160000
DTSTAMP:20260420T025511
CREATED:20200503T202333Z
LAST-MODIFIED:20201119T215718Z
UID:10000209-1620396000-1620489600@meg-muenchen.de
SUMMARY:B2- B.Hilse-210507HI*-07.-08.05.2021\, FR. 14.00 - 21.00 Uhr\, SA 09 -16.00 Uhr\, 320 €
DESCRIPTION:B2 Rapport: Verbale und nonverbale Kommunikation\nGestaltung des Rapports durch Pacing und Leading * Nutzung verbaler und nonverbaler Kommunikationsmöglichkeiten * Sprachliche und nichtsprachliche Hinweise auf Repräsentations-Systeme * Verhaltensmuster und kognitive Stile des Klienten * Techniken des “Ankerns” * Ziel- und Zukuntsorientierung \nSeminarleiterin: B. Hilse\nPsychologische Psychotherapeutin in eigener Praxis\, Aus- und Weiterbildungen in Hypnotherapie (M.E.G. und ESH)\, Verhaltenstherapie\, Gesprächspsychotherapie. Leitung der Regionalstelle der M.E.G.- München\, 1.Vorsitzende der M.E.G. \nMEG RegionalstellenFoto: www.AndreasFriese.de
URL:https://meg-muenchen.de/seminare/b2-b-hilse-210507hi-07-08-05-2021-fr-14-00-21-00-uhr-sa-09-16-00-uhr-e-290/
LOCATION:2694
CATEGORIES:B-Seminar
END:VEVENT
END:VCALENDAR