BEGIN:VCALENDAR
VERSION:2.0
PRODID:-//MEG München - ECPv6.15.20//NONSGML v1.0//EN
CALSCALE:GREGORIAN
METHOD:PUBLISH
X-ORIGINAL-URL:https://meg-muenchen.de
X-WR-CALDESC:Veranstaltungen für MEG München
REFRESH-INTERVAL;VALUE=DURATION:PT1H
X-Robots-Tag:noindex
X-PUBLISHED-TTL:PT1H
BEGIN:VTIMEZONE
TZID:Europe/Helsinki
BEGIN:DAYLIGHT
TZOFFSETFROM:+0200
TZOFFSETTO:+0300
TZNAME:EEST
DTSTART:20250330T010000
END:DAYLIGHT
BEGIN:STANDARD
TZOFFSETFROM:+0300
TZOFFSETTO:+0200
TZNAME:EET
DTSTART:20251026T010000
END:STANDARD
BEGIN:DAYLIGHT
TZOFFSETFROM:+0200
TZOFFSETTO:+0300
TZNAME:EEST
DTSTART:20260329T010000
END:DAYLIGHT
BEGIN:STANDARD
TZOFFSETFROM:+0300
TZOFFSETTO:+0200
TZNAME:EET
DTSTART:20261025T010000
END:STANDARD
BEGIN:DAYLIGHT
TZOFFSETFROM:+0200
TZOFFSETTO:+0300
TZNAME:EEST
DTSTART:20270328T010000
END:DAYLIGHT
BEGIN:STANDARD
TZOFFSETFROM:+0300
TZOFFSETTO:+0200
TZNAME:EET
DTSTART:20271031T010000
END:STANDARD
BEGIN:DAYLIGHT
TZOFFSETFROM:+0200
TZOFFSETTO:+0300
TZNAME:EEST
DTSTART:20280326T010000
END:DAYLIGHT
BEGIN:STANDARD
TZOFFSETFROM:+0300
TZOFFSETTO:+0200
TZNAME:EET
DTSTART:20281029T010000
END:STANDARD
END:VTIMEZONE
BEGIN:VEVENT
DTSTART;TZID=Europe/Helsinki:20260424T140000
DTEND;TZID=Europe/Helsinki:20260425T160000
DTSTAMP:20260419T214607
CREATED:20251219T135152Z
LAST-MODIFIED:20251219T135152Z
UID:10000417-1777039200-1777132800@meg-muenchen.de
SUMMARY:B1 Einführung in die Hypnotherapie - B. Peter - 260424PE* - 24.-25.04.2026 - FR 14-21:00\, SA 9-16:00 Uhr\, 360 €
DESCRIPTION:B1 Einführung in die Klinische Hypnose / Hypnotherapie\nGrundannahmen und anthropologische Prämissen moderner Hypnotherapie nach Milton H. Ericksons; Ideomotorik: Veränderung durch Vorstellung und Suggestion; Idiomotorik: Trancerituale zur Konstruktion und Utilisation der Metapher des Unbewussten; Trancephänomene; Indikationen und Kontraindikationen\, Anwendungsbeispiele. \nSeminarleiter: Dr. Burkhard PETER\, Dipl.Psych. \n \nLehrbücher für die gesamte Fortbildung: \nRevenstorf\, D.\, Peter\, B. & Rasch\, B. (Eds.). (2023). Hypnose in Psychotherapie\, Psychosomatik und Medizin. Manual für die Praxis (4 ed.). Heidelberg: Springer. \nPeter\, B.\, & Revenstorf\, D. (2018). Hypnotherapie. Stuttgart: Kohlhammer. \nHypnose-ZHH (Zeitschrift für Hypnose und Hypnotherapie)\, spezielle Themenhefte: www.MEG-Stiftung.de
URL:https://meg-muenchen.de/seminare/b1-einfuehrung-in-die-hypnotherapie-b-peter-260424pe-24-25-04-2026-fr-14-2100-sa-9-1600-uhr-360-e/
LOCATION:M.E.G. München – Institut für Integrierte Therapie\, Konradstraße 16\, München\, 80801\, Deutschland
CATEGORIES:B-Seminar
END:VEVENT
BEGIN:VEVENT
DTSTART;TZID=Europe/Helsinki:20270219T140000
DTEND;TZID=Europe/Helsinki:20270220T160000
DTSTAMP:20260419T214607
CREATED:20251219T135503Z
LAST-MODIFIED:20251219T135503Z
UID:10000418-1803045600-1803139200@meg-muenchen.de
SUMMARY:B1 Einführung in die Hypnotherapie - B. Peter - 270219PE* - 19.-20.02.2027 - FR 14-21:00\, SA 9-16:00 Uhr\, 360 €
DESCRIPTION:B1 Einführung in die Klinische Hypnose / Hypnotherapie\nGrundannahmen und anthropologische Prämissen moderner Hypnotherapie nach Milton H. Ericksons; Ideomotorik: Veränderung durch Vorstellung und Suggestion; Idiomotorik: Trancerituale zur Konstruktion und Utilisation der Metapher des Unbewussten; Trancephänomene; Indikationen und Kontraindikationen\, Anwendungsbeispiele. \nSeminarleiter: Dr. Burkhard PETER\, Dipl.Psych. \n \nLehrbücher für die gesamte Fortbildung: \nRevenstorf\, D.\, Peter\, B. & Rasch\, B. (Eds.). (2023). Hypnose in Psychotherapie\, Psychosomatik und Medizin. Manual für die Praxis (4 ed.). Heidelberg: Springer. \nPeter\, B.\, & Revenstorf\, D. (2018). Hypnotherapie. Stuttgart: Kohlhammer. \nHypnose-ZHH (Zeitschrift für Hypnose und Hypnotherapie)\, spezielle Themenhefte: www.MEG-Stiftung.de
URL:https://meg-muenchen.de/seminare/b1-einfuehrung-in-die-hypnotherapie-b-peter-270219pe-19-20-02-2027-fr-14-2100-sa-9-1600-uhr-360-e/
LOCATION:M.E.G. München – Institut für Integrierte Therapie\, Konradstraße 16\, München\, 80801\, Deutschland
CATEGORIES:B-Seminar
END:VEVENT
END:VCALENDAR